BEGIN:VCALENDAR
VERSION:2.0
PRODID:-//Somerset County Pennsylvania Chamber of Commerce - ECPv6.15.20//NONSGML v1.0//EN
CALSCALE:GREGORIAN
METHOD:PUBLISH
X-ORIGINAL-URL:https://somersetcountychamber.com
X-WR-CALDESC:Events for Somerset County Pennsylvania Chamber of Commerce
REFRESH-INTERVAL;VALUE=DURATION:PT1H
X-Robots-Tag:noindex
X-PUBLISHED-TTL:PT1H
BEGIN:VTIMEZONE
TZID:America/New_York
BEGIN:DAYLIGHT
TZOFFSETFROM:-0500
TZOFFSETTO:-0400
TZNAME:EDT
DTSTART:20220313T070000
END:DAYLIGHT
BEGIN:STANDARD
TZOFFSETFROM:-0400
TZOFFSETTO:-0500
TZNAME:EST
DTSTART:20221106T060000
END:STANDARD
BEGIN:DAYLIGHT
TZOFFSETFROM:-0500
TZOFFSETTO:-0400
TZNAME:EDT
DTSTART:20230312T070000
END:DAYLIGHT
BEGIN:STANDARD
TZOFFSETFROM:-0400
TZOFFSETTO:-0500
TZNAME:EST
DTSTART:20231105T060000
END:STANDARD
BEGIN:DAYLIGHT
TZOFFSETFROM:-0500
TZOFFSETTO:-0400
TZNAME:EDT
DTSTART:20240310T070000
END:DAYLIGHT
BEGIN:STANDARD
TZOFFSETFROM:-0400
TZOFFSETTO:-0500
TZNAME:EST
DTSTART:20241103T060000
END:STANDARD
END:VTIMEZONE
BEGIN:VEVENT
DTSTART;VALUE=DATE:20230906
DTEND;VALUE=DATE:20230930
DTSTAMP:20260421T055503
CREATED:20230906T153802Z
LAST-MODIFIED:20230906T153802Z
UID:10003119-1693958400-1696031999@somersetcountychamber.com
SUMMARY:WOMEN IN BUSINESS
DESCRIPTION:Women in Business to Publish “Women Making a Difference” edition in October.\nFor over ten years Women in Business has proudly shined a spotlight on women whose tireless work provides the bedrock of a strong community. You can make a  nomination by following the link below and filling out the nomination form.  Any questions\, please feel free to contact Women in Business Editor David Harry at 814-278-1323 or at editor@pabusinesscentral.com \nWomen Making a Difference Nominations- Deadline: September 30\, 2025
URL:https://somersetcountychamber.com/event/women-in-business/
LOCATION:Women in Business
END:VEVENT
BEGIN:VEVENT
DTSTART;TZID=America/New_York:20230923T080000
DTEND;TZID=America/New_York:20230923T120000
DTSTAMP:20260421T055503
CREATED:20230518T151856Z
LAST-MODIFIED:20230518T152112Z
UID:10002598-1695456000-1695470400@somersetcountychamber.com
SUMMARY:Springs PA Farmers Market
DESCRIPTION:Springs Farmers Market Saturdays 8 am to noon May 27\, 2023 – September 23\, 2023.\nFresh produce\, antiques & crafts as well as flea market items 1711 Springs Road\, Springs PA  15562 \nFor details click Facebook – Springs Historical Society/Springs Folk Festival
URL:https://somersetcountychamber.com/event/springs-pa-farmers-market/2023-09-23/
END:VEVENT
BEGIN:VEVENT
DTSTART;TZID=America/New_York:20230923T193000
DTEND;TZID=America/New_York:20230923T213000
DTSTAMP:20260421T055503
CREATED:20230316T175841Z
LAST-MODIFIED:20230316T175841Z
UID:10001421-1695497400-1695504600@somersetcountychamber.com
SUMMARY:Arcadia Theater - Everly Brothers Experience
DESCRIPTION:Arcadia Theater\, 1418 Graham Avenue\, Windber\, PA will present: \nEverly Brothers Experience \nTickets are $48\, $44\, $40 \nBox office hours are Tuesday through Friday 10 am to 4 pm. \nCall 814-467-9070 or visit www.Arcadiawindber.com
URL:https://somersetcountychamber.com/event/arcadia-theater-everly-brothers-experience/
END:VEVENT
END:VCALENDAR