BEGIN:VCALENDAR
VERSION:2.0
PRODID:-//Somerset County Pennsylvania Chamber of Commerce - ECPv6.15.20//NONSGML v1.0//EN
CALSCALE:GREGORIAN
METHOD:PUBLISH
X-WR-CALNAME:Somerset County Pennsylvania Chamber of Commerce
X-ORIGINAL-URL:https://somersetcountychamber.com
X-WR-CALDESC:Events for Somerset County Pennsylvania Chamber of Commerce
REFRESH-INTERVAL;VALUE=DURATION:PT1H
X-Robots-Tag:noindex
X-PUBLISHED-TTL:PT1H
BEGIN:VTIMEZONE
TZID:America/New_York
BEGIN:DAYLIGHT
TZOFFSETFROM:-0500
TZOFFSETTO:-0400
TZNAME:EDT
DTSTART:20220313T070000
END:DAYLIGHT
BEGIN:STANDARD
TZOFFSETFROM:-0400
TZOFFSETTO:-0500
TZNAME:EST
DTSTART:20221106T060000
END:STANDARD
BEGIN:DAYLIGHT
TZOFFSETFROM:-0500
TZOFFSETTO:-0400
TZNAME:EDT
DTSTART:20230312T070000
END:DAYLIGHT
BEGIN:STANDARD
TZOFFSETFROM:-0400
TZOFFSETTO:-0500
TZNAME:EST
DTSTART:20231105T060000
END:STANDARD
BEGIN:DAYLIGHT
TZOFFSETFROM:-0500
TZOFFSETTO:-0400
TZNAME:EDT
DTSTART:20240310T070000
END:DAYLIGHT
BEGIN:STANDARD
TZOFFSETFROM:-0400
TZOFFSETTO:-0500
TZNAME:EST
DTSTART:20241103T060000
END:STANDARD
END:VTIMEZONE
BEGIN:VEVENT
DTSTART;VALUE=DATE:20231002
DTEND;VALUE=DATE:20231101
DTSTAMP:20260420T094535
CREATED:20231002T155343Z
LAST-MODIFIED:20231002T155343Z
UID:10004971-1696204800-1698796799@somersetcountychamber.com
SUMMARY:LOCAL CHAMBER MONTH
DESCRIPTION: 
URL:https://somersetcountychamber.com/event/local-chamber-month/
LOCATION:Somerset County Chamber of Commerce
END:VEVENT
BEGIN:VEVENT
DTSTART;TZID=America/New_York:20231020T100000
DTEND;TZID=America/New_York:20231020T170000
DTSTAMP:20260420T094535
CREATED:20230324T183334Z
LAST-MODIFIED:20230324T183530Z
UID:10001476-1697796000-1697821200@somersetcountychamber.com
SUMMARY:29th Pennsylvania Arts & Crafts Christmas Festival
DESCRIPTION:  \nCome to the 29th Pennsylvania Arts & Crafts Christmas Festival at the Washington County Fairgrounds \nDays/­Hours Open: Fri 10am‑5pm\, Sat 10am‑6pm\, Sun 10am‑5pm\, Mon closed\, Tue closed\, Wed closed\, Thu closed\, Fri closed\, Sat 10am‑6pm\, Sun 10am‑5pm \nAddress: 2151 N. Main Street\, Washington\, PA 15301
URL:https://somersetcountychamber.com/event/29th-pennsylvania-arts-crafts-christmas-festival/2023-10-20/
END:VEVENT
BEGIN:VEVENT
DTSTART;TZID=America/New_York:20231020T180000
DTEND;TZID=America/New_York:20231020T210000
DTSTAMP:20260420T094535
CREATED:20231005T133838Z
LAST-MODIFIED:20231005T133838Z
UID:10004975-1697824800-1697835600@somersetcountychamber.com
SUMMARY:FRENCH CUISINE COOKING CLASS
DESCRIPTION:Learn to prepare six classic French dishes on Friday October 20th from 6-9 pm \n St. Francis in the Fields Episcopal Church on Husband Road in Somerset\n$50 per person\nRSVP to stfrancis.somerset@gmail.com\nPortion of the proceeds to benefit World Vision Orphans
URL:https://somersetcountychamber.com/event/french-cuisine-cooking-class/
LOCATION:St. Francis in the Fields Episcopal Church
END:VEVENT
END:VCALENDAR