BEGIN:VCALENDAR
VERSION:2.0
PRODID:-//Somerset County Pennsylvania Chamber of Commerce - ECPv6.15.20//NONSGML v1.0//EN
CALSCALE:GREGORIAN
METHOD:PUBLISH
X-WR-CALNAME:Somerset County Pennsylvania Chamber of Commerce
X-ORIGINAL-URL:https://somersetcountychamber.com
X-WR-CALDESC:Events for Somerset County Pennsylvania Chamber of Commerce
REFRESH-INTERVAL;VALUE=DURATION:PT1H
X-Robots-Tag:noindex
X-PUBLISHED-TTL:PT1H
BEGIN:VTIMEZONE
TZID:America/New_York
BEGIN:DAYLIGHT
TZOFFSETFROM:-0500
TZOFFSETTO:-0400
TZNAME:EDT
DTSTART:20220313T070000
END:DAYLIGHT
BEGIN:STANDARD
TZOFFSETFROM:-0400
TZOFFSETTO:-0500
TZNAME:EST
DTSTART:20221106T060000
END:STANDARD
BEGIN:DAYLIGHT
TZOFFSETFROM:-0500
TZOFFSETTO:-0400
TZNAME:EDT
DTSTART:20230312T070000
END:DAYLIGHT
BEGIN:STANDARD
TZOFFSETFROM:-0400
TZOFFSETTO:-0500
TZNAME:EST
DTSTART:20231105T060000
END:STANDARD
BEGIN:DAYLIGHT
TZOFFSETFROM:-0500
TZOFFSETTO:-0400
TZNAME:EDT
DTSTART:20240310T070000
END:DAYLIGHT
BEGIN:STANDARD
TZOFFSETFROM:-0400
TZOFFSETTO:-0500
TZNAME:EST
DTSTART:20241103T060000
END:STANDARD
BEGIN:DAYLIGHT
TZOFFSETFROM:-0500
TZOFFSETTO:-0400
TZNAME:EDT
DTSTART:20250309T070000
END:DAYLIGHT
BEGIN:STANDARD
TZOFFSETFROM:-0400
TZOFFSETTO:-0500
TZNAME:EST
DTSTART:20251102T060000
END:STANDARD
END:VTIMEZONE
BEGIN:VEVENT
DTSTART;TZID=America/New_York:20231203T190000
DTEND;TZID=America/New_York:20240103T220000
DTSTAMP:20260419T115847
CREATED:20231114T141233Z
LAST-MODIFIED:20231114T141233Z
UID:10005016-1701630000-1704319200@somersetcountychamber.com
SUMMARY:LAUREL HIGHLANDS COMMUNITY CHRISTMAS TREE TOUR
DESCRIPTION:SUNDAY\, 3 DECEMBER 2023 AT 19:00\n\n\n\n\n\n\n\n\n\n\nEvent by Jennerstown Area Recreation & Community Association-JARCA\n\n\n\n\n\n\n\n\n\n\n\n\n\n\n\n\n\n\nA 40-mile route stopping at 8 Community Christmas Tree locations with plenty of decorations to enjoy along the way!\n\n\n\n\n\nAll trees will be lit by Sunday\, December 3.\nJennerstown – 1582 Pitt Street\nBoswell-608 Hower Ave\nHooversville- 80 Main Street\nStoystown-121 W Main Street\nFriedens-131 S Main Street\nListie-Well Creek Station- 153 Village Rd\nSomerset-111 E Union Street\nSipesville- 968 Schoolhouse \, Sipesville\n 
URL:https://somersetcountychamber.com/event/laurel-highlands-community-christmas-tree-tour/
LOCATION:JARCA
END:VEVENT
BEGIN:VEVENT
DTSTART;TZID=America/New_York:20231214T080000
DTEND;TZID=America/New_York:20231231T170000
DTSTAMP:20260419T115847
CREATED:20231214T144617Z
LAST-MODIFIED:20231214T144617Z
UID:10005041-1702540800-1704042000@somersetcountychamber.com
SUMMARY:PATRIOT PARK FOUNDATION
DESCRIPTION:Patriot Park Foundation is having a fundraiser for major capital improvements.  These include paving the entrance road\, enhancing walkways with pavers\, and creating the Timeline Trail.  \nThe goal is to raise $200\,000.  While that may sound substantial\, it pales in comparison to the sacrifices made by our military and their families.  \nAn anonymous sponsor pledged a $25\,000 matching donation\, doubling the impact of every dollar donated from now until the year’s end.  That goal has already been exceeded and now another anonymous donor has pledged $5\,000 matching donation.\nFor more information contact the foundation at patriotparkfoundation@gmail.com
URL:https://somersetcountychamber.com/event/patriot-park-foundation/
LOCATION:Patriot Park Foundation
END:VEVENT
BEGIN:VEVENT
DTSTART;TZID=America/New_York:20231223T130000
DTEND;TZID=America/New_York:20231223T140000
DTSTAMP:20260419T115847
CREATED:20231110T152321Z
LAST-MODIFIED:20231110T152321Z
UID:10005014-1703336400-1703340000@somersetcountychamber.com
SUMMARY:Computer How-to
DESCRIPTION:New to computers\, smart phones or tablets? Want to work on building your confidence in using technology?  Classes on the basics will be the 2nd and 4th Saturday of each month from 1-2 pm or Wednesdays from 6-7 pm at the Somerset County Library. 
URL:https://somersetcountychamber.com/event/computer-how-to-3/
LOCATION:Somerset County Library
END:VEVENT
BEGIN:VEVENT
DTSTART;TZID=America/New_York:20231223T160000
DTEND;TZID=America/New_York:20231223T180000
DTSTAMP:20260419T115847
CREATED:20231213T184327Z
LAST-MODIFIED:20231213T184452Z
UID:10005040-1703347200-1703354400@somersetcountychamber.com
SUMMARY:SANTA COMES TO TOWN
DESCRIPTION:On Saturday December 23\, Santa will \narrive on the firetruck in Lavansville \nat 4 pm.  \nFrom there he will go through \nBakersville.\nHe will then go to the\nBakersville Firehall for pictures and \ncookies from 5 pm till 6 pm.  \n\nThe event is free and open to the public.\n 
URL:https://somersetcountychamber.com/event/santa-comes-to-town/
LOCATION:Bakersville Fire Hall
END:VEVENT
END:VCALENDAR