BEGIN:VCALENDAR
VERSION:2.0
PRODID:-//Somerset County Pennsylvania Chamber of Commerce - ECPv6.15.20//NONSGML v1.0//EN
CALSCALE:GREGORIAN
METHOD:PUBLISH
X-ORIGINAL-URL:https://somersetcountychamber.com
X-WR-CALDESC:Events for Somerset County Pennsylvania Chamber of Commerce
REFRESH-INTERVAL;VALUE=DURATION:PT1H
X-Robots-Tag:noindex
X-PUBLISHED-TTL:PT1H
BEGIN:VTIMEZONE
TZID:America/New_York
BEGIN:DAYLIGHT
TZOFFSETFROM:-0500
TZOFFSETTO:-0400
TZNAME:EDT
DTSTART:20230312T070000
END:DAYLIGHT
BEGIN:STANDARD
TZOFFSETFROM:-0400
TZOFFSETTO:-0500
TZNAME:EST
DTSTART:20231105T060000
END:STANDARD
BEGIN:DAYLIGHT
TZOFFSETFROM:-0500
TZOFFSETTO:-0400
TZNAME:EDT
DTSTART:20240310T070000
END:DAYLIGHT
BEGIN:STANDARD
TZOFFSETFROM:-0400
TZOFFSETTO:-0500
TZNAME:EST
DTSTART:20241103T060000
END:STANDARD
BEGIN:DAYLIGHT
TZOFFSETFROM:-0500
TZOFFSETTO:-0400
TZNAME:EDT
DTSTART:20250309T070000
END:DAYLIGHT
BEGIN:STANDARD
TZOFFSETFROM:-0400
TZOFFSETTO:-0500
TZNAME:EST
DTSTART:20251102T060000
END:STANDARD
END:VTIMEZONE
BEGIN:VEVENT
DTSTART;TZID=America/New_York:20240622T180000
DTEND;TZID=America/New_York:20240622T210000
DTSTAMP:20260425T160820
CREATED:20240510T140459Z
LAST-MODIFIED:20240510T140459Z
UID:10005327-1719079200-1719090000@somersetcountychamber.com
SUMMARY:LAUREL ARTS SUMMER MUSIC SERIES
DESCRIPTION:Laurel Arts Summer Music Series is back for Summer 2024!\n\nJoin us under the open sky for the 5th Annual Laurel Arts Summer Music Series! Bring your family\, friends\, and your favorite lawn chair to experience the joy of live music right in the heart of Somerset County!\nRandy Myers & Private I will play on June 22 from 6-9 pm.  There will be a Pizza Party. BYOB.\nThis family-friendly event is free to the public\, making it the perfect addition to your summer plans. Let’s make memories together at the Laurel Arts Summer Music Series!
URL:https://somersetcountychamber.com/event/laurel-arts-summer-music-series-4/
LOCATION:Laurel Arts
END:VEVENT
END:VCALENDAR